Workbook

Sheet Q1
A2: Sales Budget
D3: January | E3: Feb | F3: March | G3: April | H3: May | J3: Total
B4: Estimated Sales | E4: 500 | F4: 3000 | G4: 2000 | H4: 1000 | J4: =SUM(E4:H4) -> 6500
B5: Seeling price | E5: 300 | F5: =+E5 -> 300 | G5: =+F5 -> 300 | H5: =+G5 -> 300
B6: Total sals | E6: =+E5*E4 -> 150000 | F6: =+F5*F4 -> 900000 | G6: =+G5*G4 -> 600000 | H6: =+H5*H4 -> 300000 | J6: =SUM(E6:H6) -> 1950000
A8: Cash collection
A9: Accounts Receivable balance | D9: 10000 | F9: =0.833333333333333*E8 -> 0
A10: Receipts
B11: 0.6 | C11: of current priod | E11: =D9+(B11*E6) -> 100000 | F11: =$B$11*F6 -> 540000 | G11: =$B$11*G6 -> 360000 | H11: =$B$11*H6 -> 180000
B12: 0.4 | C12: of prior period | F12: =$B$12*E6 -> 60000 | G12: =$B$12*F6 -> 360000 | H12: =$B$12*G6 -> 240000
B13: Total cash collection | C13: Cash collected | E13: =SUM(E11:E12) -> 100000 | F13: =SUM(F11:F12) -> 600000 | G13: =SUM(G11:G12) -> 720000 | H13: =SUM(H11:H12) -> 420000 | J13: =SUM(E13:H13) -> 1840000
A18: Production Budget 2018
E19: Feb | F19: March | G19: April | H19: May | J19: Total
D20: Budgeted estimated sales | E20: =E4 -> 500 | F20: =F4 -> 3000 | G20: =G4 -> 2000 | H20: =H4 -> 1000
D21: + Desired Closing Inventory | E21: =25%*F20 -> 750 | F21: =25%*G20 -> 500 | G21: =25%*H20 -> 250 | H21: 15
D22: Total production needs | E22: =SUM(E20:E21) -> 1250 | F22: =SUM(F20:F21) -> 3500 | G22: =SUM(G20:G21) -> 2250 | H22: =SUM(H20:H21) -> 1015
D23: - Opening inventory | E23: 15 | F23: =E21 -> 750 | G23: =F21 -> 500 | H23: =G21 -> 250
D24: Budgeted Production | E24: =E22-E23 -> 1235 | F24: =F22-F23 -> 2750 | G24: =G22-G23 -> 1750 | H24: =H22-H23 -> 765 | J24: =SUM(E24:H24) -> 6500

Sheet Q2
A2: Task 1 a
A3: Cash Budget 2018
E4: Feb | F4: March | G4: April | H4: May | I4: June
D5: Sales | E5: 150000 | F5: 160000 | G5: 90000 | H5: 210000 | I5: 250000
D6: Purchases | E6: 80000 | F6: 90000 | G6: 120000 | H6: 75000 | I6: 90000
D7: Wages | E7: 14500 | F7: 12000 | G7: 9000 | H7: 11500 | I7: 8700
D8: Sales expense | E8: 3500 | F8: 3600 | G8: 5000 | H8: 4000 | I8: 3300
E11: Feb | F11: March | G11: April | H11: May | I11: June | J11: Total
D12: Beginning cash balance | G12: 20000 | H12: =G35 -> 41900 | I12: =H35 -> 40400
D13: Cash sales | E13: =10%*E5 -> 15000 | F13: =10%*F5 -> 16000 | G13: =10%*G5 -> 9000 | H13: =10%*H5 -> 21000 | I13: =10%*I5 -> 25000 | J13: =SUM(G13:I13) -> 55000
D14: Cash collection | J14: =SUM(G14:I14) -> 0
C15: One month after sale | D15: 0.5 | F15: =$D$15*(E5-E13) -> 67500 | G15: =$D$15*(F5-F13) -> 72000 | H15: =$D$15*(G5-G13) -> 40500 | I15: =$D$15*(H5-H13) -> 94500 | J15: =SUM(G15:I15) -> 207000
C16: Two months after sales | D16: 0.5 | G16: =$D$15*(E5-E13) -> 67500 | H16: =$D$15*(F5-F13) -> 72000 | I16: =$D$15*(G5-G13) -> 40500 | J16: =SUM(G16:I16) -> 180000
D17: Income from investments | F17: 2500 | J17: =SUM(G17:I17) -> 0
D18: Total cash in flows | E18: =SUM(E12:E17) -> 15000 | F18: =SUM(F12:F17) -> 86000 | G18: =SUM(G12:G17) -> 168500 | H18: =SUM(H12:H17) -> 175400 | I18: =SUM(I12:I17) -> 200400 | J18: =SUM(G18:I18) -> 544300
D20: Payments:
D21: Purchases
D22: Cash purchase | E22: =30%*E6 -> 24000 | F22: =30%*F6 -> 27000 | G22: =30%*G6 -> 36000 | H22: =30%*H6 -> 22500 | I22: =30%*I6 -> 27000 | J22: =SUM(G22:I22) -> 85500
D23: Payment after 1 month | F23: =70%*E6 -> 56000 | G23: =70%*F6 -> 63000 | H23: =70%*G6 -> 84000 | I23: =70%*H6 -> 52500 | J23: =SUM(G23:I23) -> 199500
D25: Rent expense | E25: 3000 | F25: 3000 | G25: 3000 | H25: 3000 | I25: 3000 | J25: =SUM(G25:I25) -> 9000
D26: Wages
D27: 80% in the same month | E27: =80%*E7 -> 11600 | F27: =80%*F7 -> 9600 | G27: =80%*G7 -> 7200 | H27: =80%*H7 -> 9200 | I27: =80%*I7 -> 6960 | J27: =SUM(G27:I27) -> 23360
D28: 20% in the following month | F28: =20%*E7 -> 2900 | G28: =20%*F7 -> 2400 | H28: =20%*G7 -> 1800 | I28: =20%*H7 -> 2300 | J28: =SUM(G28:I28) -> 6500
D30: Sales expense | E30: =E8 -> 3500 | F30: =F8 -> 3600 | G30: =G8 -> 5000 | H30: =H8 -> 4000 | I30: =I8 -> 3300 | J30: =SUM(G30:I30) -> 12300
D31: General Overheads | G31: 10000 | H31: =G31*1.05 -> 10500 | I31: =H31*1.09 -> 11445 | J31: =SUM(G31:I31) -> 31945
D32: Income tax expense | I32: 39000 | J32: =SUM(G32:I32) -> 39000
D33: Dividend | I33: 12000 | J33: =SUM(G33:I33) -> 12000
D34: Total payment | G34: =SUM(G22:G33) -> 126600 | H34: =SUM(H22:H33) -> 135000 | I34: =SUM(I22:I33) -> 157505 | J34: =SUM(G34:I34) -> 419105
D35: Net cash Surplus/(Deficit) | G35: =G18-G34 -> 41900 | H35: =H18-H34 -> 40400 | I35: =I18-I34 -> 42895 | J35: =I35 -> 42895
A37: Task 1b
D38: Cash balance at the end of June | E38: =I35 -> 42895
D39: Minimum cash balance | E39: 38000
D40: Variance | E40: =E38-E39 -> 4895
C42: The banak will offer Mrs. Trek the loan because the cash balance at the end of june is more than £38,000.
C43: There is a positive variance betwee the cash budget at 30 June 2018 and the balance Mrs. Trek requires to obtain the bank loan.

Sheet Q3
A2: Task 3A
D3: Fixed Budget
D4: Details | E4: Quantity per unit | F4: Cost per quantity | G4: Price per Unit
D5: Sales price per table | G5: 165
D6: Iron | E6: 2 | F6: 22.5 | G6: 45
D7: Glass | E7: 1 | F7: 15.5 | G7: 15.5
D8: Labor Cost per | E8: 3 | F8: 5 | G8: 15
D9: Variable | E9: 2 | F9: 3.2 | G9: 6.4
D11: Fixed Production | E11: 38000
D12: Number of tables | E12: 5000
D16: Sales | E16: =G5*E12 -> 825000
D17: Variable cost:
D18: Material cost | E18: =E12*G6+E12*G7 -> 302500
D19: Labor cost | E19: =$E$12*G8 -> 75000
D20: Variable overhead | E20: =$E$12*G9 -> 32000
D21: Contribution | E21: =E16-E18-E19-E20 -> 415500
D22: Fixed production expense | E22: =E11 -> 38000
D23: Net Operating | E23: =E21-E22 -> 377500
A26: Task 3b
D27: Details | E27: Quantity per unit | F27: Cost per quantity | G27: Price per Unit
D28: Sales price per table | G28: 150
D29: Iron | E29: 3 | F29: 10.5 | G29: =F29*E29 -> 31.5
D30: Glass | E30: 2 | F30: 18.8 | G30: =F30*E30 -> 37.6
D31: Labor Cost per | E31: 3 | F31: 6.55 | G31: =F31*E31 -> 19.65
D32: Variable | E32: 3 | F32: 4.4 | G32: =F32*E32 -> 13.2
D34: Fixed Production | E34: 38000
D35: Number of tables | E35: 4500
C38: Actual Budget
D39: Sales | E39: =G28*E35 -> 675000
D40: Variable cost:
D41: Material cost | E41: =E35*G29+E35*G30 -> 310950
D42: Labor cost | E42: =$E$12*G31 -> 98250
D43: Variable overhead | E43: =$E$12*G32 -> 66000
D44: Contribution | E44: =E39-E41-E42-E43 -> 199800
D45: Fixed production expense | E45: =E34 -> 38000
D46: Net Operating | E46: =E44-E45 -> 161800
A50: Task 3c
E51: Flexible budget | F51: Actual | G51: Variance | H51: Comment
D52: Sales | E52: =G5*E35 -> 742500 | F52: =E39 -> 675000 | G52: =F52-E52 -> -67500 | H52: Unfavorable
D53: Variable cost:
...

Sheet Q4
A2: Selling price | B2: 80
A3: Production cost per light globe
A4: Variable cost | B4: 40
A5: Fixed overhead cost per year | B5: 800
A7: Task 4a
A8: 1) Break-even number of globes | B8: =B5/(B2-B4) -> 20
A10: 2) Profit or loss from selling:
A11: a) 20 light globes
A12: Sales | B12: =20*B$2 -> 1600
A13: Variable cost | B13: =20*$B$4 -> 800
A14: Contribution | B14: =B12-B13 -> 800
A15: Fixed cost | B15: =$B$5 -> 800
A16: Profit | B16: =B14-B15 -> 0
A19: b. 45 light globes
A20: Sales | B20: =45*B$2 -> 3600
A21: Variable cost | B21: =45*$B$4 -> 1800
A22: Contribution | B22: =B20-B21 -> 1800
A23: Fixed cost | B23: =$B$5 -> 800
A24: Profit | B24: =B22-B23 -> 1000
A27: c. 55 light globes
A28: Sales | B28: =55*B$2 -> 4400
A29: Variable cost | B29: =55*$B$4 -> 2200
A30: Contribution | B30: =B28-B29 -> 2200
A31: Fixed cost | B31: =$B$5 -> 800
A32: Profit | B32: =B30-B31 -> 1400
B34: Units | C34: Fixed cost | D34: Variable cost | E34: Total cost | F34: Revenue | G34: Profit
B35: U | C35: FC | D35: VC | E35: TC | F35: R | G35: P
D36: Units*VC | E36: FC+VC | F36: Units*SP | G36: R-TC
B37: 0 | C37: 800 | D37: =B37*$B$4 -> 0 | E37: =C37+D37 -> 800 | F37: =B37*$B$2 -> 0 | G37: =F37-E37 -> -800
B38: 5 | C38: 800 | D38: =B38*$B$4 -> 200 | E38: =C38+D38 -> 1000 | F38: =B38*$B$2 -> 400 | G38: =F38-E38 -> -600
B39: 10 | C39: 800 | D39: =B39*$B$4 -> 400 | E39: =C39+D39 -> 1200 | F39: =B39*$B$2 -> 800 | G39: =F39-E39 -> -400
B40: 15 | C40: 800 | D40: =B40*$B$4 -> 600 | E40: =C40+D40 -> 1400 | F40: =B40*$B$2 -> 1200 | G40: =F40-E40 -> -200
B41: 20 | C41: 800 | D41: =B41*$B$4 -> 800 | E41: =C41+D41 -> 1600 | F41: =B41*$B$2 -> 1600 | G41: =F41-E41 -> 0
B42: 25 | C42: 800 | D42: =B42*$B$4 -> 1000 | E42: =C42+D42 -> 1800 | F42: =B42*$B$2 -> 2000 | G42: =F42-E42 -> 200
B43: 30 | C43: 800 | D43: =B43*$B$4 -> 1200 | E43: =C43+D43 -> 2000 | F43: =B43*$B$2 -> 2400 | G43: =F43-E43 -> 400
B44: 35 | C44: 800 | D44: =B44*$B$4 -> 1400 | E44: =C44+D44 -> 2200 | F44: =B44*$B$2 -> 2800 | G44: =F44-E44 -> 600
B45: 40 | C45: 800 | D45: =B45*$B$4 -> 1600 | E45: =C45+D45 -> 2400 | F45: =B45*$B$2 -> 3200 | G45: =F45-E45 -> 800
B46: 45 | C46: 800 | D46: =B46*$B$4 -> 1800 | E46: =C46+D46 -> 2600 | F46: =B46*$B$2 -> 3600 | G46: =F46-E46 -> 1000
B47: 50 | C47: 800 | D47: =B47*$B$4 -> 2000 | E47: =C47+D47 -> 2800 | F47: =B47*$B$2 -> 4000 | G47: =F47-E47 -> 1200

Sheet Q5
A1: Task 5a
A13: Task 5b
C14: Variance | D14: Analysis | E14: Analysis | F14: Relevant manager
B15: Sales | C15: ='Q3'!G52 -> -67500 | D15: =C15/'Q3'!F52 -> -0.1 | E15: Non-significant
B16: Variable cost:
B17: Material cost | C17: ='Q3'!G54 -> 38700 | D17: =C17/'Q3'!F54 -> 0.12445731 | E17: Non-significant | F17: Plant manager
B18: Labor cost | C18: ='Q3'!G55 -> 30750 | D18: =C18/'Q3'!F55 -> 0.3129771 | E18: Significant | F18: Human resource manager
B19: Variable overhead | C19: ='Q3'!G56 -> 37200 | D19: =C19/'Q3'!F56 -> 0.56363636 | E19: Significant
B20: Contribution | C20: ='Q3'!G57 -> -174150 | D20: =C20/'Q3'!F57 -> -0.87162162 | E20: Significant | F20: Finance manager
B21: Fixed production expense | C21: ='Q3'!G58 -> 0 | D21: =C21/'Q3'!F58 -> 0 | E21: Non-significant
B22: Net Operating | C22: ='Q3'!G59 -> -174150 | D22: =C22/'Q3'!F59 -> -1.0763288 | E22: Significant | F22: Finance manager
